BEGIN:VCALENDAR
VERSION:2.0
PRODID:-//Plone.org//NONSGML plone.app.event//EN
X-WR-TIMEZONE:Europe/Rome
BEGIN:VEVENT
SUMMARY:ROTTA verso INDUSTRIA 4.0 
DTSTART;TZID=Europe/Rome;VALUE=DATE-TIME:20170503T140000
DTEND;TZID=Europe/Rome;VALUE=DATE-TIME:20170503T180000
DTSTAMP;VALUE=DATE-TIME:20260425T145808Z
UID:bf95e8288d7443f09db0e5b2c9c37f62@ingegneriaindustriale.unibo.it
CREATED;VALUE=DATE-TIME:20170412T093933Z
DESCRIPTION:Start-up e imprese si incontrano perchè la sinergia crea inno
 vazione
LAST-MODIFIED;VALUE=DATE-TIME:20170412T093946Z
URL:https://ingegneriaindustriale.unibo.it/it/eventi/rotta-verso-industria
 -4.0
END:VEVENT
BEGIN:VTIMEZONE
TZID:Europe/Rome
X-LIC-LOCATION:Europe/Rome
BEGIN:DAYLIGHT
DTSTART;VALUE=DATE-TIME:20170326T030000
TZNAME:CEST
TZOFFSETFROM:+0100
TZOFFSETTO:+0200
END:DAYLIGHT
END:VTIMEZONE
END:VCALENDAR
