BEGIN:VCALENDAR
VERSION:2.0
PRODID:-//Plone.org//NONSGML plone.app.event//EN
X-WR-TIMEZONE:Europe/Rome
BEGIN:VEVENT
SUMMARY:Dopo la Laurea – Il lavoro subordinato
DTSTART;TZID=Europe/Rome;VALUE=DATE-TIME:20230529T140000
DTEND;TZID=Europe/Rome;VALUE=DATE-TIME:20230529T170000
DTSTAMP;VALUE=DATE-TIME:20260425T232336Z
UID:651afc7b24c041f387e1be96af944356@ingegneriaindustriale.unibo.it
CREATED;VALUE=DATE-TIME:20230517T093236Z
DESCRIPTION:La Commissione Ingegneri Dipendenti e la Commissione Giovani\,
  in collaborazione\ncon la Scuola di Ingegneria dell’Alma Mater Studioru
 m- Università di Bologna\norganizzano un ciclo di eventi\, titolo...
LAST-MODIFIED;VALUE=DATE-TIME:20230517T124446Z
URL:https://ingegneriaindustriale.unibo.it/it/eventi/dopo-la-laurea
END:VEVENT
BEGIN:VTIMEZONE
TZID:Europe/Rome
X-LIC-LOCATION:Europe/Rome
BEGIN:DAYLIGHT
DTSTART;VALUE=DATE-TIME:20230326T030000
TZNAME:CEST
TZOFFSETFROM:+0100
TZOFFSETTO:+0200
END:DAYLIGHT
END:VTIMEZONE
END:VCALENDAR
